BEGIN:VCALENDAR
VERSION:2.0
PRODID:-//Gordon Head Middle School - ECPv6.2.8.1//NONSGML v1.0//EN
CALSCALE:GREGORIAN
METHOD:PUBLISH
X-ORIGINAL-URL:https://gordonhead.sd61.bc.ca
X-WR-CALDESC:Events for Gordon Head Middle School
REFRESH-INTERVAL;VALUE=DURATION:PT1H
X-Robots-Tag:noindex
X-PUBLISHED-TTL:PT1H
BEGIN:VTIMEZONE
TZID:America/Vancouver
BEGIN:DAYLIGHT
TZOFFSETFROM:-0800
TZOFFSETTO:-0700
TZNAME:PDT
DTSTART:20230312T100000
END:DAYLIGHT
BEGIN:STANDARD
TZOFFSETFROM:-0700
TZOFFSETTO:-0800
TZNAME:PST
DTSTART:20231105T090000
END:STANDARD
END:VTIMEZONE
BEGIN:VEVENT
DTSTART;TZID=America/Vancouver:20230208T190000
DTEND;TZID=America/Vancouver:20230208T210000
DTSTAMP:20260423T153142
CREATED:20230113T213558Z
LAST-MODIFIED:20230113T213558Z
UID:9187-1675882800-1675890000@gordonhead.sd61.bc.ca
SUMMARY:Parent Presentation on Digital Literacy for Middle School Students
DESCRIPTION:
URL:https://gordonhead.sd61.bc.ca/calendar-event/parent-presentation-on-digital-literacy-for-middle-school-students/
END:VEVENT
BEGIN:VEVENT
DTSTART;TZID=America/Vancouver:20230215T190000
DTEND;TZID=America/Vancouver:20230215T210000
DTSTAMP:20260423T153142
CREATED:20230113T214415Z
LAST-MODIFIED:20230113T214415Z
UID:9191-1676487600-1676494800@gordonhead.sd61.bc.ca
SUMMARY:PAC meeting in school library
DESCRIPTION:
URL:https://gordonhead.sd61.bc.ca/calendar-event/pac-meeting-in-school-library-2/
END:VEVENT
BEGIN:VEVENT
DTSTART;VALUE=DATE:20230217
DTEND;VALUE=DATE:20230218
DTSTAMP:20260423T153142
CREATED:20220411T201347Z
LAST-MODIFIED:20220411T201408Z
UID:8696-1676592000-1676635199@gordonhead.sd61.bc.ca
SUMMARY:Professional Development Day
DESCRIPTION:Students are not in attendance.
URL:https://gordonhead.sd61.bc.ca/calendar-event/professional-development-day-17/
END:VEVENT
END:VCALENDAR