BEGIN:VCALENDAR
VERSION:2.0
PRODID:-//Gordon Head Middle School - ECPv6.2.8.1//NONSGML v1.0//EN
CALSCALE:GREGORIAN
METHOD:PUBLISH
X-ORIGINAL-URL:https://gordonhead.sd61.bc.ca
X-WR-CALDESC:Events for Gordon Head Middle School
REFRESH-INTERVAL;VALUE=DURATION:PT1H
X-Robots-Tag:noindex
X-PUBLISHED-TTL:PT1H
BEGIN:VTIMEZONE
TZID:America/Vancouver
BEGIN:DAYLIGHT
TZOFFSETFROM:-0800
TZOFFSETTO:-0700
TZNAME:PDT
DTSTART:20220313T100000
END:DAYLIGHT
BEGIN:STANDARD
TZOFFSETFROM:-0700
TZOFFSETTO:-0800
TZNAME:PST
DTSTART:20221106T090000
END:STANDARD
END:VTIMEZONE
BEGIN:VEVENT
DTSTART;TZID=America/Vancouver:20220614T163000
DTEND;TZID=America/Vancouver:20220614T180000
DTSTAMP:20260423T045821
CREATED:20220530T175642Z
LAST-MODIFIED:20220530T175642Z
UID:8859-1655224200-1655229600@gordonhead.sd61.bc.ca
SUMMARY:Year End Concert
DESCRIPTION:Family and friends are welcome to attend. \nPerformances by: \nConcert Choir\, Concert Band 6\, 7 & 8\, Jazz Band and Intermediate Strings
URL:https://gordonhead.sd61.bc.ca/calendar-event/year-end-concert-2/
END:VEVENT
BEGIN:VEVENT
DTSTART;TZID=America/Vancouver:20220623T080000
DTEND;TZID=America/Vancouver:20220623T170000
DTSTAMP:20260423T045821
CREATED:20210503T175225Z
LAST-MODIFIED:20210503T175225Z
UID:7986-1655971200-1656003600@gordonhead.sd61.bc.ca
SUMMARY:Last Day of School before Summer Break
DESCRIPTION:
URL:https://gordonhead.sd61.bc.ca/calendar-event/last-day-of-school-before-summer-break-3/
END:VEVENT
BEGIN:VEVENT
DTSTART;VALUE=DATE:20220623
DTEND;VALUE=DATE:20220624
DTSTAMP:20260423T045821
CREATED:20211201T190813Z
LAST-MODIFIED:20211201T190813Z
UID:8475-1655942400-1655985599@gordonhead.sd61.bc.ca
SUMMARY:Final Report Cards issued today
DESCRIPTION:
URL:https://gordonhead.sd61.bc.ca/calendar-event/final-report-cards-issued-today/
END:VEVENT
BEGIN:VEVENT
DTSTART;TZID=America/Vancouver:20220624T080000
DTEND;TZID=America/Vancouver:20220624T170000
DTSTAMP:20260423T045821
CREATED:20210503T175306Z
LAST-MODIFIED:20210503T175306Z
UID:7988-1656057600-1656090000@gordonhead.sd61.bc.ca
SUMMARY:Year-End Admin Day
DESCRIPTION:
URL:https://gordonhead.sd61.bc.ca/calendar-event/year-end-admin-day/
END:VEVENT
END:VCALENDAR